BEGIN:VCALENDAR
VERSION:2.0
PRODID:-//Devpost\, Inc.//Hackonomics 2027//EN
CALSCALE:GREGORIAN
BEGIN:VTIMEZONE
TZID:America/New_York
BEGIN:DAYLIGHT
DTSTART:20270314T030000
TZOFFSETFROM:-0500
TZOFFSETTO:-0400
RRULE:FREQ=YEARLY;BYDAY=2SU;BYMONTH=3
TZNAME:EDT
END:DAYLIGHT
BEGIN:STANDARD
DTSTART:20271107T010000
TZOFFSETFROM:-0400
TZOFFSETTO:-0500
RRULE:FREQ=YEARLY;BYDAY=1SU;BYMONTH=11
TZNAME:EST
END:STANDARD
END:VTIMEZONE
BEGIN:VEVENT
DTSTAMP:20260420T015651Z
UID:cea9f20c-f9ac-4d61-aa3a-9e885dfa13cc
DTSTART;TZID=America/New_York:20270601T170000
DTEND;TZID=America/New_York:20270601T170000
DESCRIPTION:https://hackonomics27.devpost.com/
SUMMARY:Hackonomics 2027 submission deadline
BEGIN:VALARM
ACTION:DISPLAY
TRIGGER:-P7D
SUMMARY:Just 7 left days until the submission deadline!
END:VALARM
END:VEVENT
END:VCALENDAR
